BEGIN:VCALENDAR
VERSION:2.0
PRODID:-//Fundec - ECPv6.15.16//NONSGML v1.0//EN
CALSCALE:GREGORIAN
METHOD:PUBLISH
X-WR-CALNAME:Fundec
X-ORIGINAL-URL:https://www.fundec.pt
X-WR-CALDESC:Eventos para Fundec
REFRESH-INTERVAL;VALUE=DURATION:PT1H
X-Robots-Tag:noindex
X-PUBLISHED-TTL:PT1H
BEGIN:VTIMEZONE
TZID:UTC
BEGIN:STANDARD
TZOFFSETFROM:+0000
TZOFFSETTO:+0000
TZNAME:UTC
DTSTART:20240101T000000
END:STANDARD
END:VTIMEZONE
BEGIN:VEVENT
DTSTART;TZID=UTC:20250918T100000
DTEND;TZID=UTC:20250918T180000
DTSTAMP:20260420T030721
CREATED:20250221T150602Z
LAST-MODIFIED:20250917T100725Z
UID:33389392-1758189600-1758218400@www.fundec.pt
SUMMARY:Fundamentos da Gestão de Ativos
DESCRIPTION:
URL:https://www.fundec.pt/formacao/fundamentos-da-gestao-de-ativos/
CATEGORIES:Sistemas e Gestão
ATTACH;FMTTYPE=image/jpeg:https://www.fundec.pt/wp-content/uploads/2024/09/pexels-photo-1374377-1.jpeg
END:VEVENT
END:VCALENDAR