BEGIN:VCALENDAR
VERSION:2.0
PRODID:-//Fundec - ECPv6.15.16//NONSGML v1.0//EN
CALSCALE:GREGORIAN
METHOD:PUBLISH
X-WR-CALNAME:Fundec
X-ORIGINAL-URL:https://www.fundec.pt
X-WR-CALDESC:Eventos para Fundec
REFRESH-INTERVAL;VALUE=DURATION:PT1H
X-Robots-Tag:noindex
X-PUBLISHED-TTL:PT1H
BEGIN:VTIMEZONE
TZID:UTC
BEGIN:STANDARD
TZOFFSETFROM:+0000
TZOFFSETTO:+0000
TZNAME:UTC
DTSTART:20240101T000000
END:STANDARD
END:VTIMEZONE
BEGIN:VEVENT
DTSTART;TZID=UTC:20251117T150000
DTEND;TZID=UTC:20251117T170000
DTSTAMP:20260419T163554
CREATED:20250912T104446Z
LAST-MODIFIED:20251118T121139Z
UID:33389671-1763391600-1763398800@www.fundec.pt
SUMMARY:Gestão e Controlo de Risco. Empreendimentos Imobiliários
DESCRIPTION:
URL:https://www.fundec.pt/formacao/gestao-e-controlo-de-risco-empreendimentos-imobiliarios/
CATEGORIES:Sistemas e Gestão
ATTACH;FMTTYPE=image/jpeg:https://www.fundec.pt/wp-content/uploads/2025/09/Esquico-Gestao-e-Controlo-de-Risco.jpg
END:VEVENT
END:VCALENDAR