BEGIN:VCALENDAR
VERSION:2.0
PRODID:-//Fundec - ECPv6.15.16//NONSGML v1.0//EN
CALSCALE:GREGORIAN
METHOD:PUBLISH
X-WR-CALNAME:Fundec
X-ORIGINAL-URL:https://www.fundec.pt
X-WR-CALDESC:Eventos para Fundec
REFRESH-INTERVAL;VALUE=DURATION:PT1H
X-Robots-Tag:noindex
X-PUBLISHED-TTL:PT1H
BEGIN:VTIMEZONE
TZID:UTC
BEGIN:STANDARD
TZOFFSETFROM:+0000
TZOFFSETTO:+0000
TZNAME:UTC
DTSTART:20220101T000000
END:STANDARD
END:VTIMEZONE
BEGIN:VEVENT
DTSTART;VALUE=DATE:20230613
DTEND;VALUE=DATE:20230615
DTSTAMP:20260419T130834
CREATED:20230613T124957Z
LAST-MODIFIED:20250204T092842Z
UID:33385066-1686614400-1686787199@www.fundec.pt
SUMMARY:Gestão Integrada de Projectos de Construção - Consultoria e Gestão de Contratos. Segurança\, Ambiente e Tendências Futuras
DESCRIPTION:
URL:https://www.fundec.pt/formacao/gestao-integrada-de-projectos-de-construcao-consultoria-e-gestao-de-contratos-seguranca-ambiente-e-tendencias-futuras/
ATTACH;FMTTYPE=image/png:https://www.fundec.pt/wp-content/uploads/2024/09/gp-construcao-28fev-3mar-2023-1.png
END:VEVENT
END:VCALENDAR